Workbook
Name frais: #REF!
Name tabcodenote: 'Matrices Formulaires'!#REF!
Name tabcodenote: #REF!

Sheet Gestion du temps
A1: ='Matrice Gestion du temps'!B78 | E1: =IF(OR(AND('Formulaire unique'!Y74="oui",'Formulaire unique'!W89="Autre"),AND('Formulaire unique'!W89="Café L'Auriculaire",'Formulaire unique'!I40>=0.6666667),AND('Formulaire unique'!W89="Café L'Auriculaire",'Formulaire unique'!Q40>=0.6666667),AND('Formulaire unique'!W89="Bar Le Baromètre",'Formulaire unique'!I40<0.666666)),"En attente d'approbation des SCÉ","")
A3: =IF(OR(I5>0,AND('Formulaire unique'!AA63="non",'Matrice Gestion du temps'!C72="oui"),AND('Formulaire unique'!AA63="oui",'Matrices Formulaires'!AM41="complet"),AND('Formulaire unique'!AA63="oui",'Matrices Formulaires'!AK50="Allez à la section 3"),AND('Formulaire unique'!T72="non",'Matrices Formulaires'!AM81="complet"),AND('Formulaire unique'!AF111="oui",OR('Matrices Formulaires'!A121="complet",'Matrices Formulaires'!B121="complet",'Matrices Formulaires'!C121="complet",'Matrices Formulaires'!D121="complet")),AND('Formulaire unique'!W89="autre",OR('Matrices Formulaires'!A121="complet",'Matrices Formulaires'!B121="complet",'Matrices Formulaires'!C121="complet",'Matrices Formulaires'!D121="complet"))),"Formulaire EXPIRÉ ou NON VALIDE","Valide") -> Valide | E3: {=_xlfn.IFS(F9=0,"Formulaire Incomplet ou ne nous concerne pas",AND('Formulaire unique'!W89='Menus déroulant'!F6,'Formulaire unique'!Y74="non"),"Formulaire Incomplet ou ne nous concerne pas",AND(OR('Formulaire unique'!W89='Menus déroulant'!F4,'Formulaire unique'!W89='Menus déroulant'!F5),'Matrices Formulaires'!AM81=""),"Formulaire Incomplet ou ne nous concerne pas",AND('Formulaire unique'!Y74="oui",'Formulaire unique'!W89="Autre"),"")} -> Formulaire Incomplet ou ne nous concerne pas
A4: Date de l'événement | B4: Statu | C4: Tâches par événement | E4: Détails
C5: =F6 -> 0 | D5: =IF(E1="En attente d'approbation des SCÉ","!","") | E5: Date : | F5: =IF(OR('Formulaire unique'!K37="",'Formulaire unique'!M37="",'Formulaire unique'!O37=""),"",DATE('Formulaire unique'!O37,'Formulaire unique'!M37,'Formulaire unique'!K37)) | G5: =IF(F5="",TODAY(),DATE('Formulaire unique'!O37,'Formulaire unique'!M37,'Formulaire unique'!K37)) -> 45973 | H5: =TODAY() -> 45973 | I5: =H5-G5 -> 0 | J5: =F5 | K5: =MONTH(F5) -> #VALUE! | L5: =IF('Formulaire unique'!M37='Gestion du temps'!K5,"OK","Date impossible, veuillez SVP entrer une date valide") -> #VALUE!
C6: Mettre l'événement au calendrier | D6: oui | E6: Événement : | F6: ='Formulaire unique'!K33 -> 0 | G6: =IF(L5="Date impossible, veuillez SVP entrer une date valide","DATE INVALIDE") -> #VALUE!
C7: Envoyer courriel au client - confirmation | D7: oui | E7: Début : | F7: ='Formulaire unique'!I40 -> 0
C8: Passer la commande à la SAQ | D8: ='Matrice Gestion du temps'!B10 -> ? | E8: Fin : | F8: ='Formulaire unique'!Q40 -> 0
C9: Passer la commande au Baromètre | D9: ='Matrice Gestion du temps'!B21 -> ? | E9: Lieu : | F9: =IF(OR('Formulaire unique'!T72="",'Formulaire unique'!T72="non",'Formulaire unique'!W89="",'Formulaire unique'!W89="autre"),'Bon de commande'!L31,'Formulaire unique'!W89) -> 0
C10: Passer la commande à l'Auriculaire (incluant la location de matériel) | D10: ='Matrice Gestion du temps'!B32 -> ? | E10: Commande : | F10: ='Matrice Gestion du temps'!B54 -> ? | G10: =IF(F10='Matrice Gestion du temps'!D50,'Matrice Gestion du temps'!A57,"")
C11: Vérifier la disponibilité du matériel de location | D11: ='Matrice Gestion du temps'!B43 -> ? | E11: Organisé par : | F11: ='Formulaire unique'!T35 -> 0
C12: Aller chercher la commande à la SAQ | D12: ='Matrice Gestion du temps'!B10 -> ? | E12: Nb de personnes : | F12: {=_xlfn.IFS('Formulaire unique'!W89="",'Formulaire unique'!R42,'Formulaire unique'!W89='Menus déroulant'!F6,'Formulaire unique'!R42,AND('Formulaire unique'!W89='Menus déroulant'!F4,'Formulaire unique'!R42>48),"!!!",AND('Formulaire unique'!W89='Menus déroulant'!F4,'Formulaire unique'!R42<=48),'Formulaire unique'!R42,AND('Formulaire unique'!W89='Menus déroulant'!F5,'Formulaire unique'!R42>174),"!!!",AND('Formulaire unique'!W89='Menus déroulant'!F5,'Formulaire unique'!R42<=174),'Formulaire unique'!R42)} -> 0 | G12: =IF(F12="!!!","Le nombre de personnes attendues dépasse la capacité légale du local","")
C13: Envoyer courriel au client - Instructions de récupération de commande | D13: {=_xlfn.IFS(OR(D8="oui",D9="oui",D11="oui",D10="oui"),"oui",AND(D8="non",D9="non",D11="non"),"non",OR(D8="?",D9="?",D11="?",D10="?"),"?")} -> ? | E13: Responsable : | F13: ='Formulaire unique'!U44 -> 0
C14: Préparer la commande d'alcool (incluant la location de matériel) | D14: {=_xlfn.IFS(OR(D8="oui",D9="oui",D11="oui"),"oui",AND(D8="non",D9="non",D11="non"),"non",OR(D8="?",D9="?",D11="?"),"?")} -> ? | E14: Responsable : | F14: =IF(OR('Formulaire unique'!AD48="non",""),"",'Formulaire unique'!N50) -> 0
C15: AVIS de réception | D15: =IF(OR('Formulaire unique'!W89='Menus déroulant'!F4,'Formulaire unique'!W89='Menus déroulant'!F5),'Matrice Gestion du temps'!G68,'Matrice Gestion du temps'!M68) -> ? | E15: Courriel : | F15: =IF(OR('Formulaire unique'!AD48="non",'Formulaire unique'!AD48=""),'Formulaire unique'!I46,CONCATENATE('Formulaire unique'!I46,"; ",'Formulaire unique'!I52)) -> 0
C16: Produire la facture et l'envoyer au client | D16: {=_xlfn.IFS(OR(D8="oui",D9="oui",D10="oui",D11="oui",F10="oui",F10='Matrice Gestion du temps'!E52),"oui",AND(D8="non",D9="non",D10="non",D11="non",F10="non"),"non",OR(D8="?",D9="?",D10="?",D11="?",F10="?"),"?")} -> ? | E16: Facturer à l'ordre de : | F16: =IF(OR(F9="non",F9='Matrice Gestion du temps'!D50),"",'Formulaire unique'!V76) -> 0
C17: Payer Financement | D17: =IF('Formulaire unique'!AJ128="oui",'Formulaire unique'!U132,"non") -> non | E17: Nourriture : | F17: ='Formulaire unique'!T139 -> 0
C18: Encaisser le paiement | D18: {=_xlfn.IFS(D16="oui","oui",D16="non","non",D16="?","?")} -> ? | E18: Autres demandes : | F18: =IF('Formulaire unique'!I193="","",'Formulaire unique'!I193)
E19: Demande reçu via :

Sheet InstructionsEmployé(e)sCommande
B1: Commande Baromètre | AC1: Commande L'Auriculaire | BD1: Entente de prêt de matériel
B3: =IFERROR(CONCATENATE(CHOOSE(WEEKDAY('Formulaire unique'!$V$37,2),"lundi","mardi","mercredi","jeudi","vendredi","samedi","dimanche")," le "),"Date") -> Date | G3: ='Formulaire unique'!$V$37 | AC3: =IFERROR(CONCATENATE(CHOOSE(WEEKDAY('Formulaire unique'!$V$37,2),"lundi","mardi","mercredi","jeudi","vendredi","samedi","dimanche")," le "),"Date") -> Date | AH3: ='Formulaire unique'!$V$37 | AQ3: Heure
BE4: Prêteur
B5: Organisateur(s) : | G5: ='Bon de commande'!$N$133 | AC5: Organisateur(s) : | AH5: ='Bon de commande'!$N$133 | BE5: AGECAR
B6: Événement : | G6: ='Bon de commande'!$N$131 | AC6: Événement : | AH6: ='Bon de commande'!$N$131 | BE6: 300, allée Des Ursulines Local E-220
B7: Responsable : | G7: ='Bon de commande'!$N$134 | AC7: Responsable : | AH7: ='Bon de commande'!$N$134 | BE7: Rimouski (Québec)
B8: Courriel : | G8: ='Bon de commande'!$N$135 | AC8: Courriel : | AH8: ='Bon de commande'!$N$135 | BE8: G5L 3A1
B10: Bières en canette | Q10: Location de matériel | AF10: Service traiteur | BE10: Matériel | BW10: Quantité | BZ10: Valeur unitaire estimée
B11: Nom du produit | H11: Format | L11: Nombre de caisses | Q11: Matériel | AF11: Nom du produit | AS11: Format | AX11: Nombre
BE12: =IF('Bon de commande'!X100="","","Thermos à café") | BW12: =IF(AX13=0,"",AX13) | BZ12: =IF(BE12="","",250)
B13: ='Bon de commande'!C41 -> Molson Canadian | H13: ='Bon de commande'!I41 -> 24 x 473 ml | L13: =IF(OR('Bon de commande'!T41="",'Bon de commande'!T41=0),0,'Bon de commande'!T41) -> 0 | Q13: =IF('Bon de commande'!X117=0,"",CONCATENATE('Bon de commande'!X117," ",'Bon de commande'!C117)) | AF13: =IF('Bon de commande'!C100="","",'Bon de commande'!C100) -> Thermos de café (incluant lait et sucre) | AS13: =IF('Bon de commande'!P100="","",'Bon de commande'!P100) -> 9 à 10 tasses | AX13: =IF('Bon de commande'!X100="",0,'Bon de commande'!X100) -> 0 | BE13: =IF('Bon de commande'!C119="","",'Bon de commande'!C119) -> Verre à vin en vitre | BW13: =IF('Bon de commande'!X119="","",'Bon de commande'!X119)
B14: ='Bon de commande'!C42 -> Belgian Moon | H14: ='Bon de commande'!I42 -> 24 x 473 ml | L14: =IF(OR('Bon de commande'!T42="",'Bon de commande'!T42=0),0,'Bon de commande'!T42) -> 0 | Q14: =IF('Bon de commande'!X118=0,"",CONCATENATE('Bon de commande'!X118," ",'Bon de commande'!C118)) | AF14: =IF('Bon de commande'!C101="","",'Bon de commande'!C101) -> Muffins variés | AS14: =IF('Bon de commande'!P101="","",'Bon de commande'!P101) -> unité | AX14: =IF('Bon de commande'!X101="",0,'Bon de commande'!X101) -> 0 | BE14: =IF('Bon de commande'!C120="","",'Bon de commande'!C120) | BW14: =IF('Bon de commande'!X120="","",'Bon de commande'!X120)
B15: ='Bon de commande'!C43 -> Amer IPA | H15: ='Bon de commande'!I43 -> 24 x 473 ml | L15: =IF(OR('Bon de commande'!T43="",'Bon de commande'!T43=0),0,'Bon de commande'!T43) -> 0 | Q15: =IF('Bon de commande'!X119=0,"",CONCATENATE('Bon de commande'!X119," ",'Bon de commande'!C119)) | AF15: =IF('Bon de commande'!C102="","",'Bon de commande'!C102) -> Chocolatines | AS15: =IF('Bon de commande'!P102="","",'Bon de commande'!P102) -> unité | AX15: =IF('Bon de commande'!X102="",0,'Bon de commande'!X102) -> 0 | BE15: =IF('Bon de commande'!C121="","",'Bon de commande'!C121) | BW15: =IF('Bon de commande'!X121="","",'Bon de commande'!X121)
B16: ='Bon de commande'!C44 -> Griffintown | H16: ='Bon de commande'!I44 -> 24 x 473 ml | L16: =IF(OR('Bon de commande'!T44="",'Bon de commande'!T44=0),0,'Bon de commande'!T44) -> 0 | Q16: =IF('Bon de commande'!X120=0,"",CONCATENATE('Bon de commande'!X120," ",'Bon de commande'!C120)) | AF16: =IF('Bon de commande'!C103="","",'Bon de commande'!C103) -> Croissant | AS16: =IF('Bon de commande'!P103="","",'Bon de commande'!P103) -> unité | AX16: =IF('Bon de commande'!X103="",0,'Bon de commande'!X103) -> 0
B17: ='Bon de commande'!C45 -> Cidre McKeown | H17: ='Bon de commande'!I45 -> 12 x 473 ml | L17: =IF(OR('Bon de commande'!T45="",'Bon de commande'!T45=0),0,'Bon de commande'!T45) -> 0 | Q17: =IF('Bon de commande'!X121=0,"",CONCATENATE('Bon de commande'!X121," ",'Bon de commande'!C121)) | AF17: =IF('Bon de commande'!C104="","",'Bon de commande'!C104) -> Thermos d'eau chaude | AS17: =IF('Bon de commande'!P104="","",'Bon de commande'!P104) -> unité | AX17: =IF('Bon de commande'!X104="",0,'Bon de commande'!X104) -> 0
B18: ='Bon de commande'!C46 -> Bière sans alcool | H18: ='Bon de commande'!I46 -> 12 x 473 ml | L18: =IF(OR('Bon de commande'!T46="",'Bon de commande'!T46=0),0,'Bon de commande'!T46) -> 0 | AF18: =IF('Bon de commande'!C105="","",'Bon de commande'!C105) | AS18: =IF('Bon de commande'!P105="","",'Bon de commande'!P105) | AX18: =IF('Bon de commande'!X105="",0,'Bon de commande'!X105) -> 0
B19: ='Bon de commande'!C47 -> Gin Tonic prêt à boire | H19: ='Bon de commande'!I47 -> 4 x 355 ml | L19: =IF(OR('Bon de commande'!T47="",'Bon de commande'!T47=0),0,'Bon de commande'!T47) -> 0 | AF19: =IF('Bon de commande'!C106="","",'Bon de commande'!C106) | AS19: =IF('Bon de commande'!P106="","",'Bon de commande'!P106) | AX19: =IF('Bon de commande'!X106="",0,'Bon de commande'!X106) -> 0
B20: ='Bon de commande'!C48 -> Kombucha | H20: ='Bon de commande'!I48 -> unité (341 ml) | L20: =IF(OR('Bon de commande'!T48="",'Bon de commande'!T48=0),0,'Bon de commande'!T48) -> 0 | AF20: =IF('Bon de commande'!C107="","",'Bon de commande'!C107) | AS20: =IF('Bon de commande'!P107="","",'Bon de commande'!P107) | AX20: =IF('Bon de commande'!X107="",0,'Bon de commande'!X107) -> 0 | BE20: Le matériel de la présente entente est prêté à :
B21: ='Bon de commande'!C49 -> 0 | H21: ='Bon de commande'!I49 -> 0 | L21: =IF(OR('Bon de commande'!T49="",'Bon de commande'!T49=0),0,'Bon de commande'!T49) -> 0
B22: Total | L22: =IFERROR((24*L13)+(24*L14)+(24*L15)+(24*L16)+(12*L17)+(12*L18)+(4*L19)+L20+L21,0) -> 0 | N22: unités | Q22: Total | X22: =SUM('Bon de commande'!X117:AA121) -> 0 | AA22: unités | AF22: Total | AV22: =SUM('Bon de commande'!X100:AA107) -> 0 | AY22: unités | BE22: Organisateur(s) : | BJ22: ='Bon de commande'!$N$133
BE23: Événement : | BJ23: ='Bon de commande'!$N$131
B24: Vin | AF24: Location de matériel | BE24: Responsable : | BJ24: ='Bon de commande'!$N$134
B25: Code SAQ | F25: Nom du produit | V25: Format | Y25: Nombre de bouteilles | AF25: Matériel | AS25: Format | AX25: Nombre | BE25: Courriel : | BJ25: ='Bon de commande'!$N$135
B27: =IF('Bon de commande'!C81="","",'Bon de commande'!C81) | F27: =IF('Bon de commande'!G81="","",'Bon de commande'!G81) | V27: =IF('Bon de commande'!W81="","",'Bon de commande'!W81) | X27: ml | Y27: =IF('Bon de commande'!AJ81="",0,'Bon de commande'!AJ81) -> 0 | AF27: =IF('Bon de commande'!C118="","",'Bon de commande'!C118) -> Tasses à café | AS27: =IF('Bon de commande'!P118="","",'Bon de commande'!P118) -> unité | AX27: =IF('Bon de commande'!X118="",0,'Bon de commande'!X118) -> 0 | BE27: En cas de perte, bris ou non retour, l'emprunteur s'engage à rembourser la valeur à neuf dudit matériel.
B28: =IF('Bon de commande'!C82="","",'Bon de commande'!C82) | F28: =IF('Bon de commande'!G82="","",'Bon de commande'!G82) | V28: =IF('Bon de commande'!W82="","",'Bon de commande'!W82) | X28: ml | Y28: =IF('Bon de commande'!AJ82="",0,'Bon de commande'!AJ82) -> 0 | AF28: =IF('Bon de commande'!C119="","",'Bon de commande'!C119) -> Verre à vin en vitre | AS28: =IF('Bon de commande'!P119="","",'Bon de commande'!P119) -> unité | AX28: =IF('Bon de commande'!X119="",0,'Bon de commande'!X119) -> 0
B29: =IF('Bon de commande'!C83="","",'Bon de commande'!C83) | F29: =IF('Bon de commande'!G83="","",'Bon de commande'!G83) | V29: =IF('Bon de commande'!W83="","",'Bon de commande'!W83) | X29: ml | Y29: =IF('Bon de commande'!AJ83="",0,'Bon de commande'!AJ83) -> 0 | AF29: =IF('Bon de commande'!C120="","",'Bon de commande'!C120) | AS29: =IF('Bon de commande'!P120="","",'Bon de commande'!P120) | AX29: =IF('Bon de commande'!X120="",0,'Bon de commande'!X120) -> 0
B30: =IF('Bon de commande'!C84="","",'Bon de commande'!C84) | F30: =IF('Bon de commande'!G84="","",'Bon de commande'!G84) | V30: =IF('Bon de commande'!W84="","",'Bon de commande'!W84) | X30: ml | Y30: =IF('Bon de commande'!AJ84="",0,'Bon de commande'!AJ84) -> 0 | AF30: =IF('Bon de commande'!C121="","",'Bon de commande'!C121) | AS30: =IF('Bon de commande'!P121="","",'Bon de commande'!P121) | AX30: =IF('Bon de commande'!X121="",0,'Bon de commande'!X121) -> 0
B31: =IF('Bon de commande'!C85="","",'Bon de commande'!C85) | F31: =IF('Bon de commande'!G85="","",'Bon de commande'!G85) | V31: =IF('Bon de commande'!W85="","",'Bon de commande'!W85) | X31: ml | Y31: =IF('Bon de commande'!AJ85="",0,'Bon de commande'!AJ85) -> 0 | AF31: =IF('Bon de commande'!C122="","",'Bon de commande'!C122) -> Total | AS31: =IF('Bon de commande'!P122="","",'Bon de commande'!P122) | AX31: =IF('Bon de commande'!X122="",0,'Bon de commande'!X122) -> 0
B32: =IF('Bon de commande'!C86="","",'Bon de commande'!C86) | F32: =IF('Bon de commande'!G86="","",'Bon de commande'!G86) | V32: =IF('Bon de commande'!W86="","",'Bon de commande'!W86) | X32: ml | Y32: =IF('Bon de commande'!AJ86="",0,'Bon de commande'!AJ86) -> 0 | AF32: Total | AV32: =SUM('Bon de commande'!X117:AA121) -> 0 | AY32: unités
B33: =IF('Bon de commande'!C87="","",'Bon de commande'!C87) | F33: =IF('Bon de commande'!G87="","",'Bon de commande'!G87) | V33: =IF('Bon de commande'!W87="","",'Bon de commande'!W87) | X33: ml | Y33: =IF('Bon de commande'!AJ87="",0,'Bon de commande'!AJ87) -> 0
B34: =IF('Bon de commande'!C88="","",'Bon de commande'!C88) | F34: =IF('Bon de commande'!G88="","",'Bon de commande'!G88) | V34: =IF('Bon de commande'!W88="","",'Bon de commande'!W88) | X34: ml | Y34: =IF('Bon de commande'!AJ88="",0,'Bon de commande'!AJ88) -> 0 | BE34: =CONCATENATE("Signé à Rimouski, ",AH3) -> Signé à Rimouski,
B35: =IF('Bon de commande'!C89="","",'Bon de commande'!C89) | F35: =IF('Bon de commande'!G89="","",'Bon de commande'!G89) | V35: =IF('Bon de commande'!W89="","",'Bon de commande'!W89) | X35: ml | Y35: =IF('Bon de commande'!AJ89="",0,'Bon de commande'!AJ89) -> 0
B36: =IF('Bon de commande'!C90="","",'Bon de commande'!C90) | F36: =IF('Bon de commande'!G90="","",'Bon de commande'!G90) | V36: =IF('Bon de commande'!W90="","",'Bon de commande'!W90) | X36: ml | Y36: =IF('Bon de commande'!AJ90="",0,'Bon de commande'!AJ90) -> 0 | BE36: Représentant de l'AGECAR (prêteur)
F37: ='Bon de commande'!C59 -> Borsao Tocado Campo de Borja (rouge) | V37: ='Bon de commande'!P59 -> 750 ml | Y37: ='Bon de commande'!V59 -> 0
F38: ='Bon de commande'!C60 -> Concha Y Toro Frontera Chardonnay (blanc) | V38: ='Bon de commande'!P60 -> 750 ml | Y38: ='Bon de commande'!V60 -> 0
B39: Total | Y39: =IFERROR(SUM(Y27:AB38),0) -> 0 | AA39: unités | BE39: Nom en lettres moulées | BR39: Signature
B41: Note : | D41: Ne pas faire payer, la facture suivra ultérieurement | AC41: Note : | AE41: Ne pas faire payer, la facture suivra ultérieurement
D42: Ne pas oublier le vin blanc au frais s'il y a lieu | BE42: Responsable de l'événement (emprunteur)
BE45: Nom en lettres moulées | BR45: Signature

Sheet Matrice Gestion du temps
A1: Commande SAQ
C3: =IF(AND('Bon de commande'!AN91=0,'Bon de commande'!G81="",'Bon de commande'!G82="",'Bon de commande'!G83="",'Bon de commande'!G784="",'Bon de commande'!G85="",'Bon de commande'!G86="",'Bon de commande'!G87="",'Bon de commande'!G88="",'Bon de commande'!G89="",'Bon de commande'!G90=""),"non","oui") -> non
C4: commande faite | D4: oui | E4: non
B5: commande à faire | D5: 1 | E5: 2
B6: 0 | C6: 1 | D6: ="?" -> ? | E6: ="?" -> ?
B7: non | C7: 2 | D7: ="?" -> ? | E7: ="non" -> non
B8: oui | C8: 3 | D8: ="oui" -> oui | E8: =IF('Bon de commande'!O144=0,"?","non") -> ?
B10: {=INDEX(D6:E8,VLOOKUP('Formulaire unique'!Y74,'Matrice Gestion du temps'!B6:C8,2,FALSE),HLOOKUP('Matrice Gestion du temps'!C3,'Matrice Gestion du temps'!D4:E5,2,FALSE))} -> ?
A12: Commande Baromètre
C14: =IF(AND('Bon de commande'!X50=0,'Bon de commande'!Z61=0),"non","oui") -> non
C15: commande faite | D15: oui | E15: non
B16: commande à faire | D16: 1 | E16: 2
B17: 0 | C17: 1 | D17: ="?" -> ? | E17: ="?" -> ?
B18: non | C18: 2 | D18: ="?" -> ? | E18: ="non" -> non
B19: oui | C19: 3 | D19: ="oui" -> oui | E19: =IF('Bon de commande'!O144=0,"?","non") -> ?
B21: {=INDEX(D17:E19,VLOOKUP('Formulaire unique'!Y74,'Matrice Gestion du temps'!B17:C19,2,FALSE),HLOOKUP('Matrice Gestion du temps'!C14,'Matrice Gestion du temps'!D15:E16,2,FALSE))} -> ?
A23: Commande Auriculaire
C25: =IF(AND('Bon de commande'!C105="",'Bon de commande'!C106="",'Bon de commande'!C107=""),"non","oui") -> non
C26: commande faite | D26: oui | E26: non
B27: commande à faire | D27: 1 | E27: 2
B28: 0 | C28: 1 | D28: ="?" -> ? | E28: ="?" -> ?
B29: non | C29: 2 | D29: ="?" -> ? | E29: ="non" -> non
B30: oui | C30: 3 | D30: ="oui" -> oui | E30: =IF('Bon de commande'!O144=0,"?","non") -> ?
B32: {=INDEX(D28:E30,VLOOKUP('Formulaire unique'!Y74,'Matrice Gestion du temps'!B28:C30,2,FALSE),HLOOKUP('Matrice Gestion du temps'!C25,'Matrice Gestion du temps'!D26:E27,2,FALSE))} -> ?
A34: Location Matériel
C36: =IF(AND('Bon de commande'!AB122=0,'Bon de commande'!C120="",'Bon de commande'!C121=""),"non","oui") -> non
C37: commande faite | D37: oui | E37: non
B38: commande à faire | D38: 1 | E38: 2
B39: 0 | C39: 1 | D39: ="?" -> ? | E39: ="?" -> ?
B40: non | C40: 2 | D40: ="?" -> ? | E40: ="non" -> non
B41: oui | C41: 3 | D41: ="oui" -> oui | E41: ="non" -> non
B43: {=INDEX(D39:E41,VLOOKUP('Formulaire unique'!Y74,'Matrice Gestion du temps'!B39:C41,2,FALSE),HLOOKUP('Matrice Gestion du temps'!C36,'Matrice Gestion du temps'!D37:E38,2,FALSE))} -> ?
A45: Détails - Commande
C47: =IF(AND('Bon de commande'!L31="",'Bon de commande'!X50=0,'Bon de commande'!Z61=0,'Bon de commande'!AN91=0,'Bon de commande'!G81="",'Bon de commande'!G82="",'Bon de commande'!G83="",'Bon de commande'!G84="",'Bon de commande'!G85,"",'Bon de commande'!G86="",'Bon de commande'!G87="",'Bon de commande'!G88="",'Bon de commande'!G89="",'Bon de commande'!G90="",'Bon de commande'!AB108=0,'Bon de commande'!C105="",'Bon de commande'!C106="",'Bon de commande'!C107="",'Bon de commande'!AB122=0,'Bon de commande'!C120="",'Bon de commande'!C121="",'Bon de commande'!O144=0),"non","oui") -> non
C48: commande faite | D48: oui | E48: non
B49: commande à faire | D49: 1 | E49: 2
B50: 0 | C50: 1 | D50: ="Demander au client" -> Demander au client | E50: =IF('Formulaire unique'!AA63="oui","non","?") -> ?
B51: non | C51: 2 | D51: ="Demander au client" -> Demander au client | E51: ="non" -> non
B52: oui | C52: 3 | D52: ="oui" -> oui | E52: ="À VENIR" -> À VENIR
B54: {=INDEX(D50:E52,VLOOKUP('Formulaire unique'!Y74,'Matrice Gestion du temps'!B50:C52,2,FALSE),HLOOKUP('Matrice Gestion du temps'!C47,'Matrice Gestion du temps'!D48:E49,2,FALSE))} -> ?
...

Sheet Formulaire unique
C11: Formulaire unique de réservation de locaux, commande d'alcool
C12: et commande traiteur
C13: Dernière mise à jour : 2025-10-28
C15: Note : ce formulaire ne concerne pas le local de réunions E-412. Pour le réserver, veuillez vous présenter en personne aux bureaux de l'AGECAR ou envoyer un courriel à : agecar@uqar.ca
C17: Note : ce formulaire concerne uniquement le Café l'Auriculaire ainsi que le Bar le Baromètre. Pour la réservation de tout autre local, veuillez vous rendre sur le moodle de l'UQAR en cliquant sur ce lien :
C18: https://portail.uqar.ca/mod/glossary/view.php?id=385261&mode=cat&hook=266
C20: Marche à suivre
D21: Chaque nouvelle demande doit être faite à partir d'un formulaire vierge - NE PAS essayer de sauver du temps avec une ancienne demande que vous auriez déjà faite dans le passé
C22: 1 | E22: Veuillez remplir le formulaire en cliquant sur TOUTES les cases bleues EN SUIVANT LES ÉTAPES DANS L'ORDRE. Certaines cases comportent un choix prédéfini à faire; vous devez alors cliquer sur le symbole qui apparaîtra à droite de la case, faites votre choix parmi la liste proposée. D'autres cases devront être remplies par du texte (au meilleur de votre connaissance). IMPORTANT : Ne laissez aucune case vide.
C23: 2 | E23: Lire les informations complémentaires tout au long du processus
C24: 3 | E24: Enregistrez le formulaire et faites-le parvenir à TOUTES les adresses courriel indiquées à la fin du formulaire (les adresses vont varier selon vos besoins)
C26: Si vous avez besoin d'aide n'hésitez pas à nous appeler au (418) 724-1523
B28: Ce formulaire fonctionne uniquement avec Microsoft Excel; il est INCOMPATIBLE avec Google Sheet
D30: =IF('Gestion du temps'!A3="Formulaire EXPIRÉ ou NON VALIDE",Notes!B5,"") | AJ30: =IF('Gestion du temps'!A3="Formulaire EXPIRÉ ou NON VALIDE",Notes!B6,"")
C31: Section 1 - Renseignements généraux
AS32: 1 | AT32: (dimanche)
D33: Nom de l'événement : | AS33: 2 | AT33: (lundi)
AS34: 3 | AT34: (mardi)
D35: Organisé par (nom de l'Association, groupe ou individu) : | AS35: 4 | AT35: (mercredi)
AS36: 5 | AT36: (jeudi)
D37: Date de l'événement : | R37: =IF(O37="","",O37) | T37: {=_xlfn.IFS(AND(M37<10,M37>0),CONCATENATE("0",M37),M37>=10,M37,M37="","")} | U37: {=_xlfn.IFS(AND(K37<10,K37>0),CONCATENATE("0",K37),K37>=10,K37,K37="","")} | V37: ='Gestion du temps'!F5 | AB37: =IF('Gestion du temps'!L5="OK","Veuillez SVP vérifier l'exactitude de cette date",'Gestion du temps'!L5) -> #VALUE! | AR37: =WEEKDAY(V37,1) -> #VALUE! | AS37: 6 | AT37: (vendredi)
K38: jour | M38: Mois | O38: année | W38: =VLOOKUP(AR37,AS32:AT38,2,FALSE) -> #VALUE! | AS38: 7 | AT38: (samedi)
D40: Heure de début : | M40: Heure de fin :
D42: Nombre de personnes attendues à l'événement :
D44: Prénom et nom de la personne responsable de l'événement :
D46: Adresse courriel :
D48: Est-ce qu'il y a une autre personne responsable de cet événement ? (répondez par oui ou non)
D50: =IF(AD48="oui","Prénom et nom de cette personne :","")
D52: =IF(AD48="oui","Adresse courriel :","")
D54: Brève description de votre événement et/ou de la thématique de la soirée :
D62: Est-ce que votre événement est un Party d'Association étudiante du type "mardi ou jeudi de financement"
D63: accordé lors d'une réunion du CA ? (répondez par oui ou non)
D65: ='Matrices Formulaires'!B13 -> Veuillez s'il vous plaît remplir toutes les cases bleues pour avoir accès aux autres sections qui vous concernent
D66: ='Matrices Formulaires'!AK13 | Z66: ='Matrices Formulaires'!AK26
B68: Section | E68: incomplète
D69: =IF('Gestion du temps'!A3="Formulaire EXPIRÉ ou NON VALIDE",Notes!B5,"") | AJ69: =IF('Gestion du temps'!A3="Formulaire EXPIRÉ ou NON VALIDE",Notes!B6,"")
C70: Section 2 - Que désirez-vous ? | O70: Vous n'avez pas à remplir cette section
D72: Faire une réservation de locaux ? (répondez par oui ou non) :
D74: Passer une commande d'alcool et/ou traiteur ? (répondez par oui ou non) :
D76: =IF(Y74="oui","Veuillez indiquer à l'ordre de qui devrons nous faire la facture :","")
...

Sheet Jeudi de financement - Asso
B2: {=_xlfn.IFS(AND('Formulaire unique'!AA63="oui",'Matrices Formulaires'!AM4="complet"),"",AND('Formulaire unique'!AA63="oui",'Matrices Formulaires'!AM4=""),Notes!B58,'Formulaire unique'!AA63="non",Notes!B57,'Formulaire unique'!AA63="",Notes!B58)} -> Veuillez tout d'abord compléter la Section 1 - Renseignements généraux
Q4: Jeudi de financement - Asso étudiante
Q5: (Suite du formulaire)
B8: Vous pouvez en tout temps retourner à la Section 1 - Renseignements généraux | AJ8: EN CLIQUANT ICI
C10: Section 2 - Demandes complémentaires | R10: Vous n'avez pas à remplir cette section
D12: Est-ce que vous prévoyez servir de la nourriture ? (répondez par oui ou non)
D13: =IF(AA12="oui",Notes!B59,"")
D17: Veuillez décrire la nourriture offerte et la provenance
D20: Est-ce que vous voulez publiciser votre événement sur :
D22: Les babillards de l'Université (répondez par oui ou non)
D24: Le téléviseur de l'UQAR (répondez par oui ou non)
D26: L'Info-Lettre (répondez par oui ou non)
D28: La page Facebook de l'AGECAR (répondez par oui ou non)
D31: Est-ce que vous avez des besoins audio-visuel (projecteur, micro, etc.) ? (répondez par oui ou non)
D33: ='Matrices Formulaires'!AL191 -> Veuillez s'il vous plaît remplir toutes les cases bleues pour avoir accès aux autres sections qui vous concernent
B35: Section incomplète
C38: Section 3 - Besoins audio-visuel | P38: Vous n'avez pas à remplir cette section
D40: Veuillez inscrire "oui" ou "non" à chacun des besoins audio-visuel parmi la liste suivante :
D42: Projecteur
D43: =IF(H42="oui",Notes!B63,"")
D45: Micros | K45: Combien de micros ? (2 micros disponibles au bar)
D46: =IF(G45="oui",Notes!B64,"")
D47: =IF(Y45>3,Notes!B65,"")
D49: Câblage nécessaire pour un chansonnier
D52: Câblage nécessaire pour un groupe de musique
D53: =IF(Q52="oui",Notes!B66,"")
D55: Avez-vous besoin d'un soutien technique ? (répondez par oui ou non)
D56: =IF(Y55="oui",Notes!B67,"")
D59: Est-ce que vous prenez en charge la musique ? (répondez par oui ou non)
D60: =IF(Z59="oui",Notes!B69,"")
D62: =IF(AG31="non",Notes!B62,'Matrices Formulaires'!AL204) -> Veuillez s'il vous plaît remplir toutes les cases bleues pour avoir accès aux autres sections qui vous concernent
B64: Section incomplète
C67: Section 4 - Autres besoins particuliers (facultatif)
D70: Avez-vous d'autres besoins qui ne vous ont pas été suggérés dans ce formulaire ? (répondez par oui ou non)
D72: Veuillez spécifier
D78: =Notes!B72 -> Allez à la section 5
C82: Section 5 - Second bar
D85: L’association peut tenir un deuxième bar. À ce bar, peuvent être vendus : alcools forts, cocktails et mocktails seulement. 100 % des bénéfices seront remis à l’association. Le prix minimum pour chaque consommation est de 2$. En vertu du permis d’alcool octroyé au bar le Baromètre, nous demandons le retour de toutes les bouteilles pleines, entamées ou vides à la fin de la soirée. Une pénalité de 50$ sera déduite du montant versé, pour chaque bouteille non retournée. C’est la responsabilité de l’association de minimiser le nombre de bouteilles ouvertes, afin de maximiser les profits (voir calcul des bénéfices). L’association peut opérer le second bar de 19h30 à 23h30 le mardi et de 21h30 à 1h30 le jeudi.
D94: Est-ce que vous désirez tenir un second bar ? (répondez par oui ou non)
D96: Veuillez fournir les renseignements des personnes qui seront responsables de ce second bar (caisse)
...

Sheet Services Communauté Étudiante
B2: Rappel : Ce formulaire concerne uniquement la réservation du Baromètre ou de l'Auriculaire EN DEHORS de nos heures d'ouverture. Pour tout autre local, veuillez communiquer avec les Services aux Étudiants à : communautaire@uqar.ca
B4: =IF(OR('Matrices Formulaires'!B13=Notes!B7,'Matrices Formulaires'!AK50=Notes!B11,'Matrices Formulaires'!AK90=Notes!B22),"Vous devez avoir rempli au moins la Section 1, 2 et 3 avant tout","") -> Vous devez avoir rempli au moins la Section 1, 2 et 3 avant tout
D6: Vous pouvez en tout temps retourner à la Section 1 - Renseignements généraux | AM6: EN CLIQUANT ICI
C8: Veuillez simplement mettre un "X" dans la ou les case(s) appropriée(s) lorsqu'il y a un choix à faire
B10: =IF('Formulaire unique'!AF111="non","Ce formulaire ne vous concerne pas","Services à la Communauté Étudiante - Formulaire de réservation d'espace et besoins audiovisuels") -> Services à la Communauté Étudiante - Formulaire de réservation d'espace et besoins audiovisuels
C12: Réservation d'espace | Z12: Particularités / Besoin audiovisuel
C14: Demandeur | Z14: Alcool et alimentation
C16: Nom du regroupement : | J16: =IF('Formulaire unique'!T35="","",'Formulaire unique'!T35) | Z16: Service et/ou consommation d'alcool
C18: Nom et prénom du demandeur : | L18: =IF('Formulaire unique'!U44="","",'Formulaire unique'!U44) | Z18: Fournisseur | AD18: =IF('Formulaire unique'!Y74="oui","X","") | AE18: AGECAR | AI18: Cafétéria COOPSCO
C20: Code permanent : | Z20: Service et/ou consommation de nourriture
C22: Numéro de téléphone : | Z22: Fournisseur | AE22: Cafétéria COOPSCO | AL22: Autre
AK23: *Pré-autorisation obligatoire
C24: Adresse courriel : | H24: =IF('Formulaire unique'!I46="","",'Formulaire unique'!I46) | Z24: Besoins techniques
C26: Activité | AA26: Canon de projection | AH26: Ordinateur | AM26: Ordinateur et canon (kit)
C28: Date : | E28: ='Formulaire unique'!V37 | AA28: Internet | AH28: TV / DVD | AM28: Autre
C30: Horaire : | F30: de | G30: =IF('Formulaire unique'!I40="","",'Formulaire unique'!I40) | J30: (début) | M30: à | N30: =IF('Formulaire unique'!Q40="","",'Formulaire unique'!Q40) | Q30: (fin)
C32: Nombre de personne attendues : | L32: ='Formulaire unique'!R42 -> 0 | Z32: Type de présentation
C34: Activité | AA34: Powerpoint | AG34: Audio / musicale | AO34: Vidéo
D36: Activité sociale | J36: Conférence / colloque | R36: Financement
D38: Groupe musical | J38: Réunion | N38: Autre | Z38: Micros (quantité : | AG38: )
C40: Type d'espace (*Salle à manger : vous adresser directment à la cafétéria) | AA40: Lutrin / microphone | AH40: scène | AL40: Allée (salle) F-210
D42: Amphithéâtre (F-210) | J42: =IF('Formulaire unique'!W89='Menus déroulant'!F4,"X","") | K42: Auriculaire (E-030) | P42: =IF('Formulaire unique'!W89='Menus déroulant'!F5,"X","") | Q42: Baromètre (E-120) | Z42: Éclairage | AF42: Ambiant | AK42: Spots
D44: Kiosque (Atrium) | K44: Local de classe | P44: Suggestion : | Z44: Enregistrement | AF44: Audio | AK44: Vidéo
Z46: Est-ce que vous souhaitez qu'un technicien demeure sur place pour la durée de l'activité ?
C47: Description de l'Activité
C48: =IF('Formulaire unique'!O54="","",'Formulaire unique'!O54) | AH48: oui | AL48: non
Z50: *Des frais pourraient être exigés pour les services d'un technicien
C53: Informations importantes | Z53: Approbation des Services à la communauté étudiante
D54: Le formulaire doit être retourné à : communautaire@uqar.ca
D55: Un délai de 48 heures est exigé pour une location d'espace
D56: Un délai de 10 jours est exigé pour tous les autres types d'activités | Z56: Signature : | AO56: Date :
B59: Pour passer une commande d'alcool et/ou traiteur | AA59: cliquez ici
B61: Pour nous faire parvenir votre formulaire | AA61: cliquez ici
A100: Date | C100: =E28
A102: Début | C102: =G30
A104: Fin | C104: =N30
A106: Responsable | C106: =CONCATENATE(L18," ",H20)
A108: But | C108: =C48
A117: Nb Personnes | C117: =L32 -> 0

Sheet Instructions Finales
B1: Votre formulaire est EXPIRÉ ou NON VALIDE pour l'une des raisons suivantes :
B3: Vous avez tenté de faire votre demande à partir d'un formulaire qui avait déjà servi à une autre demande
B4: La date de l'événement que vous avez entré est déjà passée
B5: Veuillez SVP faire votre demande à partir d'un document vierge et assurez-vous d'entrer une date valide (postérieur à aujourd'hui)
B6: Vous trouverez un formulaire vierge sur le MOODLE : | F6: https://portail.uqar.ca/mod/glossary/view.php?id=385261&mode=cat&hook=266
B8: Vous devez sauvegarder votre document dès maintenant et le faire parvenir par courriel à TOUTES LES ADRESSES suivantes :
B10: =IF('Matrices Formulaires'!A221="oui","agecar@uqar.ca; agecar.instances@gmail.com; communautaire@uqar.ca","agecar@uqar.ca; agecar.instances@gmail.com") -> agecar@uqar.ca; agecar.instances@gmail.com
B12: N'oubliez pas de communiquer avec les Services Aux Étudiants pour réserver votre local communautaire@uqar.ca
B14: Navigation rapide dans le formulaire
B16: Cliquez ici | C16: Pour aller à la Section 1 - renseignements généraux
A18: =IF(OR('Formulaire unique'!Y74="non",'Formulaire unique'!Y74="",'Formulaire unique'!AA63="oui"),"non","oui") -> non | B18: Cliquez ici | C18: Pour aller au bon de commande d'alcool et/ou traiteur
A20: =IF(OR('Formulaire unique'!T72="",'Formulaire unique'!T72="non",'Formulaire unique'!W89="Autre",'Formulaire unique'!AF111="non"),"non","oui") -> non | B20: Cliquez ici | C20: Pour aller au formulaire des Services Aux Étudiants

Sheet Notes
A3: Notes
A4: Formulaire unique
B5: Ce formulaire est expiré. Pour avoir plus d'informations à ce sujet, veuillez
B6: Cliquer ici
A7: Section 1 | B7: Veuillez s'il vous plaît remplir toutes les cases bleues pour avoir accès aux autres sections qui vous concernent
B8: Allez à la section 2
B9: Passez directement au formulaire : Jeudi de financement - Asso
B10: EN CLIQUANT ICI
A11: Section 2 | B11: Veuillez s'il vous plaît remplir toutes les cases bleues pour avoir accès aux autres sections qui vous concernent
B12: Oupsss! Ce formulaire concerne la réservation de local et/ou commande de produits. Veuillez répondre "oui" à au moins une question
B13: Allez à la section 3
B14: Vous pouvez maintenant passer votre commande d'alcool et/ou traiteur
B15: EN CLIQUANT ICI
A16: Section 3 | B16: Note : nous vous rappelons que ce formulaire concerne uniquement le Café l'Auriculaire ainsi que le Bar le Baromètre. Pour la réservation de tout autre local, veuillez vous rendre sur le moodle de l'UQAR en cliquant sur ce lien :
B17: Pour passer une commande d'alcool, veuillez retourner à la section 2, dites "non" à la réservation de local et suivez les instructions
B18: IMPORTANT : Les normes de sécurité des bâtiments imposent un nombre maximal de personnes propre à chaque local.
B19: Est-ce que votre réservation se situe
B20: EN DEHORS
B21: des heures d'affaires ? (choisir parmi les options)
B22: Veuillez s'il vous plaît remplir toutes les cases bleues pour avoir accès aux autres sections qui vous concernent
B23: Allez à la section 4
B24: Ce sont les Services à la Communauté Étudiante (SCÉ) qui gère la réservation de locaux en dehors de nos heures d'affaires
B25: Passer au formulaire : SCÉ
B26: EN CLIQUANT ICI
B27: Note : vous devez savoir que nous ne pouvons pas bloquer l'accès aux autres usagés (le local ne peut pas vous être exclusif). En le réservant, vous vous assurez qu'un autre événement n'entrera pas en conflit avec le vôtre. Vous pouvez vous réserver quelques tables en y mettant une affichette "RÉSERVÉ". Vous pouvez également mettre une affiche à l'extérieur pour annoncer votre événement EN Y INDIQUANT CLAIREMENT : "Ouvert à tous" ou "Bienvenue à tous".
A28: Section 4 | B28: Le montant du financement pour votre association sera de 15% des ventes du bar dans la plage horaire que vous aurez sélectionné; soit de 16h00 à 19h00 (4 à 7) ou de 17h00 à 20h00 (5 à 8).
B29: Note : Afin de se conformer aux normes d'hygiène et de salubrité alimentaire, les produits alimentaires offerts doivent provenir de traiteurs, restaurants et/ou épiceries détenant un permis du MAPAQ en bonne et due forme et doivent être offert gratuitement aux participants de votre activité.
B30: Veuillez s'il vous plaît remplir toutes les cases bleues pour avoir accès aux autres sections qui vous concernent
B31: Allez à la section 5
B32: Allez à la section 6
A33: Section 5 | B33: Note : vous devez fournir votre propre ordinateur portable. Ce dernier doit pouvoir acceuillir un fil HDMI.
B34: Note : Il y a 2 micros disponibles au bar. Ils sont sous votre responsabilité. En cas de bris, perte ou vol, 200$ par micros vous sera facturé.
B35: Si vous avez besoin de micros supplémentaires, veuillez communiquer avec les Services de Technologie de l'Information de l'UQAR
B36: Note : Notre matériel est très limité. Veuillez vous procurer le matériel nécessaire au groupe de musique.
B37: IMPORTANT : si vous avez besoin d'un soutien technique pour l'installation du matériel, veuillez comminiquer avec l'AGECAR (PLUSIEURS JOURS À L'AVANCE) afin de prendre arrangement.
B39: Note : nous vous fournirons le câble pour vous brancher à la console, mais vous devez fournir votre propre ordinateur portable.
B40: Veuillez s'il vous plaît remplir toutes les cases bleues pour avoir accès aux autres sections qui vous concernent
B41: Allez à la section 6
A42: Section 6 | B42: Vous pouvez maintenant passer votre commande d'alcool
B43: EN CLIQUANT ICI
...

Sheet Matrices Formulaires
A1: Formulaire unique | C1: Jeudi financement - Asso
B2: Section 1
D4: =IF(OR(B17="",B18="",B19="",B20="",B21="",B22="",B23="",B24="",B25="",B26="",B27="",B28="",B35=""),"","complet") | AM4: =IF(OR(B17="",B18="",B19="",B20="",B21="",B22="",B23="",B24="",B25="",B26="",B27="",B28="",B35=""),"","complet")
D6: =D4 | AM6: =AM4
D7: 1 | AM7: 1
B8: 0 | C8: 1 | D8: =Notes!B7 -> Veuillez s'il vous plaît remplir toutes les cases bleues pour avoir accès aux autres sections qui vous concernent | AK8: 0 | AL8: 1 | AM8: =IF('Formulaire unique'!AA63="","","")
B9: non | C9: 2 | D9: =IF(D4="",Notes!B7,Notes!B8) -> Veuillez s'il vous plaît remplir toutes les cases bleues pour avoir accès aux autres sections qui vous concernent | AK9: non | AL9: 2 | AM9: =IF('Formulaire unique'!AA63="non","","")
B10: oui | C10: 3 | D10: =IF(D6="",Notes!B7,"") -> Veuillez s'il vous plaît remplir toutes les cases bleues pour avoir accès aux autres sections qui vous concernent | AK10: oui | AL10: 3 | AM10: =IF(AM4="complet",Notes!B9,"")
B13: {=INDEX(D8:D10,VLOOKUP('Formulaire unique'!AA63,B8:C10,2,FALSE),HLOOKUP(D4,D6:D7,2,FALSE))} -> Veuillez s'il vous plaît remplir toutes les cases bleues pour avoir accès aux autres sections qui vous concernent | AK13: {=INDEX(AM8:AM10,VLOOKUP('Formulaire unique'!AA63,AK8:AL10,2,FALSE),HLOOKUP(AM4,AM6:AM7,2,FALSE))}
B17: {=IF('Formulaire unique'!K33:AP33="","",'Formulaire unique'!K33)} | AM17: =IF(OR(B17="",B18="",B19="",B20="",B21="",B22="",B23="",B24="",B25="",B26="",B27="",B28="",B35=""),"","complet")
B18: =IF('Formulaire unique'!T35="","",'Formulaire unique'!T35)
B19: =IF('Formulaire unique'!K37="","",'Formulaire unique'!K37) | AM19: =AM17
B20: =IF('Formulaire unique'!M37="","",'Formulaire unique'!M37) | AM20: 1
B21: {=IF('Formulaire unique'!O37:P37="","",'Formulaire unique'!O37)} | AK21: 0 | AL21: 1 | AM21: =IF('Formulaire unique'!AA63="","","")
B22: {=IF('Formulaire unique'!I40:K40="","",'Formulaire unique'!I40)} | AK22: non | AL22: 2 | AM22: =IF('Formulaire unique'!AA63="non","","")
B23: {=IF('Formulaire unique'!Q40:S40="","",'Formulaire unique'!Q40)} | AK23: oui | AL23: 3 | AM23: =IF(AM17="complet",Notes!B10,"")
B24: {=IF('Formulaire unique'!R42:S42="","",'Formulaire unique'!R42)}
B25: {=IF('Formulaire unique'!U44:AP44="","",'Formulaire unique'!U44)}
B26: {=IF('Formulaire unique'!I46:AP46="","",'Formulaire unique'!I46)} | AK26: {=INDEX(AM21:AM23,VLOOKUP('Formulaire unique'!AA63,AK21:AL23,2,FALSE),HLOOKUP(AM17,AM19:AM20,2,FALSE))}
B27: {=IF('Formulaire unique'!AD48:AF48="","",'Formulaire unique'!AD48)}
B28: =IF('Formulaire unique'!O54="","",'Formulaire unique'!O54)
B35: {=IF('Formulaire unique'!AA63:AC63="","",'Formulaire unique'!AA63)}
A38: Formulaire unique
B39: Section 2
B41: =IF('Formulaire unique'!T72="","",'Formulaire unique'!T72) | AM41: =IF(OR(B41="",B42="",B43="",B45=""),"","complet")
B42: =IF('Formulaire unique'!Y74="","",'Formulaire unique'!Y74)
B43: =IF('Formulaire unique'!V76="","",'Formulaire unique'!V76) | AL43: Alcool | AM43: 0 | AN43: non | AO43: oui
AK44: Local | AM44: 1 | AN44: 2 | AO44: 3
B45: =IF('Formulaire unique'!V80="","",'Formulaire unique'!V80) | AK45: 0 | AL45: 1 | AM45: =Notes!B11 -> Veuillez s'il vous plaît remplir toutes les cases bleues pour avoir accès aux autres sections qui vous concernent | AN45: =Notes!B11 -> Veuillez s'il vous plaît remplir toutes les cases bleues pour avoir accès aux autres sections qui vous concernent | AO45: =Notes!B11 -> Veuillez s'il vous plaît remplir toutes les cases bleues pour avoir accès aux autres sections qui vous concernent
AK46: non | AL46: 2 | AM46: =Notes!B11 -> Veuillez s'il vous plaît remplir toutes les cases bleues pour avoir accès aux autres sections qui vous concernent | AN46: =Notes!B12 -> Oupsss! Ce formulaire concerne la réservation de local et/ou commande de produits. Veuillez répondre "oui" à au moins une question | AO46: =IF(AM41="complet","",Notes!B11) -> Veuillez s'il vous plaît remplir toutes les cases bleues pour avoir accès aux autres sections qui vous concernent
AK47: oui | AL47: 3 | AM47: =Notes!B11 -> Veuillez s'il vous plaît remplir toutes les cases bleues pour avoir accès aux autres sections qui vous concernent | AN47: =Notes!B13 -> Allez à la section 3 | AO47: =IF(AM41="complet",Notes!B13,Notes!B11) -> Veuillez s'il vous plaît remplir toutes les cases bleues pour avoir accès aux autres sections qui vous concernent
AK50: {=INDEX(AM45:AO47,VLOOKUP('Formulaire unique'!T72,'Matrices Formulaires'!AK45:AL47,2,FALSE),HLOOKUP('Formulaire unique'!Y74,'Matrices Formulaires'!AM43:AO44,2,FALSE))} -> Veuillez s'il vous plaît remplir toutes les cases bleues pour avoir accès aux autres sections qui vous concernent
AM53: =IF(OR(B41="",B42="",B43="",B45=""),"","complet")
AL55: Alcool | AM55: 0 | AN55: non | AO55: oui
AK56: Local | AM56: 1 | AN56: 2 | AO56: 3
AK57: 0 | AL57: 1 | AM57: =IF('Formulaire unique'!T72="","","") | AN57: =IF('Formulaire unique'!T72="","","") | AO57: =IF('Formulaire unique'!T72="","","")
AK58: non | AL58: 2 | AM58: =IF('Formulaire unique'!T72="non","","") | AN58: =IF('Formulaire unique'!T72="non","","") | AO58: =IF(AM53="complet",Notes!B14,"")
AK59: oui | AL59: 3 | AM59: =IF('Formulaire unique'!T72="oui","","") | AN59: =IF('Formulaire unique'!T72="oui","","") | AO59: =IF('Formulaire unique'!T72="oui","","")
AK62: {=INDEX(AM57:AO59,VLOOKUP('Formulaire unique'!T72,'Matrices Formulaires'!AK57:AL59,2,FALSE),HLOOKUP('Formulaire unique'!Y74,'Matrices Formulaires'!AM55:AO56,2,FALSE))}
AM65: =IF(OR(B41="",B42="",B43="",B45=""),"","complet")
...

Sheet Menus déroulant
A2: Menus déroulants
A4: oui | B4: oui | E4: 0.625 | F4: Café L'Auriculaire | G4: Association étudiante de l'UQAR | H4: 4 à 7 | I4: marc.agecar@gmail.com
A5: non | B5: non | C5: 1 | D5: janvier | E5: 0.64583333 | F5: Bar Le Baromètre | G5: Étudiant(e) de l'UQAR | H5: 5 à 8 | I5: marc_guilbeault@uqar.ca
A6: en partie | B6: N/A | C6: 2 | D6: février | E6: 0.66666667 | F6: Autre | G6: Employé(e) de l'UQAR | I6: agecar-instances@uqar.ca
C7: 3 | D7: mars | E7: 0.6875 | G7: Personne, groupe ou association non relié(e) à l'UQAR | I7: agecar@uqar.ca
C8: 4 | D8: avril | E8: 0.70833333
C9: 5 | D9: mai | E9: 0.72916667
C10: 6 | D10: juin | E10: 0.75
C11: 7 | D11: juillet | E11: 0.77083333
C12: 8 | D12: août | E12: 0.79166667
C13: 9 | D13: septembre | E13: 0.8125
C14: 10 | D14: octobre | E14: 0.83333333
C15: 11 | D15: novembre | E15: 0.85416667
C16: 12 | D16: décembre | E16: 0.875
C17: 13 | E17: 0.89583333
C18: 14 | E18: 0.91666667
C19: 15 | E19: 0.9375
C20: 16 | E20: 0.95833333
C21: 17 | E21: 0.97916667
C22: 18 | E22: 0
C23: 19 | E23: 0.020833333
C24: 20 | E24: 0.041666667
C25: 21 | E25: 0.0625
C26: 22 | E26: 0.083333333
C27: 23 | E27: 0.10416667
C28: 24 | E28: 0.125
... C35: 31 | E35: 0.27083333
E36: 0.29166667
E37: 0.3125
E38: 0.33333333
E39: 0.35416667
E40: 0.375
E41: 0.39583333
E42: 0.41666667
E43: 0.4375
E44: 0.45833333
E45: 0.47916667
E46: 0.5
E47: 0.52083333
... E51: 0.60416667
...

Sheet Bon de commande
B1: =IF('Formulaire unique'!Y74="non",Notes!B85,Notes!B84) -> Vous devez avoir complété les sections 1 et 2 du formulaire avant de pouvoir passer une commande
B9: Bon de commande d'alcool et/ou traiteur
B13: Vous pouvez en tout temps retourner au début du formulaire | AG13: EN CLIQUANT ICI
C16: Marche à suivre
C18: 1 | E18: Remplissez les cases bleues qui correspondent aux produits que vous voulez commander.
C20: 2 | E20: Référez-vous aux informations complémentaires qui se trouvent à la droite des différents tableaux.
C22: 3 | E22: Voyez le prix estimé de votre commande tout au bas de la page et suivez les directives.
C24: 4 | E24: Dès que votre événement est terminé, veuillez retourner les produits non consommés; soit au Baromètre, soit à nos bureaux (E-220).
C27: 5 | E27: Une facture officielle vous sera envoyée avec les détails du mode de paiement.
C31: Lieu de l'événement (Local) :
C33: ='Matrices Bon de commande'!B10 -> Vous devez inscrire le nom du local avant de pouvoir remplir le bon de commande
C37: Produits en canette disponibles
C39: Nom du produit | I39: Format | M39: Prix unitaire | P39: Prix à la caisse | T39: Quantité | X39: Total | AB39: Il est possible de commander des demi-caisses
C41: Molson Canadian | I41: 24 x 473 ml | M41: {=INDEX('Matrices Bon de commande'!D16:H24,1,HLOOKUP('Formulaire unique'!V80,'Matrices Bon de commande'!D14:H15,2,FALSE))} -> 0 | P41: =M41*24 -> 0 | X41: =T41*24*M41 -> 0 | AB41: Les prix n'incluent pas les taxes, ni les consignes
C42: Belgian Moon | I42: 24 x 473 ml | M42: {=INDEX('Matrices Bon de commande'!D16:H24,2,HLOOKUP('Formulaire unique'!V80,'Matrices Bon de commande'!D14:H15,2,FALSE))} -> 0 | P42: =M42*24 -> 0 | X42: =T42*24*M42 -> 0
C43: Amer IPA | I43: 24 x 473 ml | M43: {=INDEX('Matrices Bon de commande'!D16:H24,3,HLOOKUP('Formulaire unique'!V80,'Matrices Bon de commande'!D14:H15,2,FALSE))} -> 0 | P43: =M43*24 -> 0 | X43: =T43*24*M43 -> 0
C44: Griffintown | I44: 24 x 473 ml | M44: {=INDEX('Matrices Bon de commande'!D16:H24,4,HLOOKUP('Formulaire unique'!V80,'Matrices Bon de commande'!D14:H15,2,FALSE))} -> 0 | P44: =M44*24 -> 0 | X44: =T44*24*M44 -> 0
C45: Cidre McKeown | I45: 12 x 473 ml | M45: {=INDEX('Matrices Bon de commande'!D16:H24,5,HLOOKUP('Formulaire unique'!V80,'Matrices Bon de commande'!D14:H15,2,FALSE))} -> 0 | P45: =M45*12 -> 0 | X45: =T45*12*M45 -> 0
C46: Bière sans alcool | I46: 12 x 473 ml | M46: {=INDEX('Matrices Bon de commande'!D16:H24,6,HLOOKUP('Formulaire unique'!V80,'Matrices Bon de commande'!D14:H15,2,FALSE))} -> 0 | P46: =M46*12 -> 0 | X46: =T46*12*M46 -> 0
C47: Gin Tonic prêt à boire | I47: 4 x 355 ml | M47: {=INDEX('Matrices Bon de commande'!D16:H24,7,HLOOKUP('Formulaire unique'!V80,'Matrices Bon de commande'!D14:H15,2,FALSE))} -> 0 | P47: N/A | X47: =T47*4*M47 -> 0
C48: Kombucha | I48: unité (341 ml) | M48: {=INDEX('Matrices Bon de commande'!D16:H24,8,HLOOKUP('Formulaire unique'!V80,'Matrices Bon de commande'!D14:H15,2,FALSE))} -> 0 | P48: N/A | X48: =T48*M48 -> 0
M49: {=INDEX('Matrices Bon de commande'!D16:H24,9,HLOOKUP('Formulaire unique'!V80,'Matrices Bon de commande'!D14:H15,2,FALSE))} -> 0 | P49: N/A | X49: =IFERROR(T49*M49,0) -> 0
C50: Total | T50: =(24*T41)+(24*T42)+(24*T43)+(24*T44)+(12*T45)+(12*T46)+(T47*4)+T48+T49 -> 0 | V50: unités | X50: =SUM(X41:Z49) -> 0
C55: Vins disponibles
C57: Nom du produit | P57: Format | S57: Prix unitaire | V57: Nombre de bouteilles | Z57: Total | AD57: Il est possible de commander d'autres vins que ceux disponibles. Voir les consignes à la prochaine section.
C59: Borsao Tocado Campo de Borja (rouge) | P59: 750 ml | S59: {=INDEX('Matrices Bon de commande'!D30:H31,1,HLOOKUP('Formulaire unique'!V80,'Matrices Bon de commande'!D28:H29,2,FALSE))} -> 0 | Z59: =S59*V59 -> 0
C60: Concha Y Toro Frontera Chardonnay (blanc) | P60: 750 ml | S60: {=INDEX('Matrices Bon de commande'!D30:H31,2,HLOOKUP('Formulaire unique'!V80,'Matrices Bon de commande'!D28:H29,2,FALSE))} -> 0 | Z60: =S60*V60 -> 0 | AD60: Nous ne fournissons pas les coupes
C61: Total | V61: =SUM(V59:Y60) -> 0 | X61: unités | Z61: =SUM(Z59:AB60) -> 0 | AD61: Les prix n'inclues pas les taxes.
C66: Commande spéciale
C68: Nous possédons une sélection de vins à nos bureaux (Local E-220). Vous pouvez communiquer avec nous pour en connaître la liste ou
C69: faire une commande spéciale de vin en vous rendant sur le site de la SAQ Rimouski : | Z69: https://www.saq.com/fr/store/33505
C70: Faites votre sélection en prenant en note le code SAQ, le nom du produit, le format et le prix affiché. Remplissez le tableau qui suit.
C72: Note : | E72: 1) Vous devez nous faire parvenir votre bon de commande au moins 7 jours avant votre événement
E73: S'il est trop tard, communiquez avec l'AGECAR pour connaître la sélection de vins que nous avons à nos bureaux (Local E-220)
E74: 2) Nous ne pouvons garantir la disponibilité des produits (le site de la SAQ n'est pas nécessairement à jour)
E75: 3) Des frais de gestion s'appliquent (ils s'ajouteront automatiquement dans le bon de commande qui suit)
E76: 4) Les prix n'incluent pas les taxes (même s'il sont inclus dans l'affichage de la SAQ)
E77: 5) Seuls les produits consommés vous seront facturés
C79: Code SAQ | G79: Nom du produit | W79: Format | Z79: Prix unitaire affiché à la SAQ | AE79: Frais de gestion par bouteille | AJ79: Nombre de bouteilles | AN79: Total
Y81: ml | AE81: {=Z81*(INDEX('Matrices Bon de commande'!D38:H47,1,HLOOKUP('Formulaire unique'!V80,'Matrices Bon de commande'!D36:H37,2,FALSE)))} -> 0 | AN81: =(Z81+AE81)*AJ81 -> 0
...

Sheet FACTURATION
B3: Nom du produit | C3: Unités commandés | D3: Unités retournés | E3: À facturer
E4: Produit | F4: Consigne
B5: Bière Canette
B6: ='Bon de commande'!C41 -> Molson Canadian | C6: ='Bon de commande'!T41*24 -> 0 | E6: =(C6-D6)*'Bon de commande'!M41 -> 0 | F6: =(C6-D6)*0.2 -> 0
B7: ='Bon de commande'!C42 -> Belgian Moon | C7: ='Bon de commande'!T42*24 -> 0 | E7: =(C7-D7)*'Bon de commande'!M42 -> 0 | F7: =(C7-D7)*0.2 -> 0
B8: ='Bon de commande'!C43 -> Amer IPA | C8: ='Bon de commande'!T43*24 -> 0 | E8: =(C8-D8)*'Bon de commande'!M43 -> 0 | F8: =(C8-D8)*0.2 -> 0
B9: ='Bon de commande'!C44 -> Griffintown | C9: ='Bon de commande'!T44*24 -> 0 | E9: =(C9-D9)*'Bon de commande'!M44 -> 0 | F9: =(C9-D9)*0.2 -> 0
B10: ='Bon de commande'!C45 -> Cidre McKeown | C10: ='Bon de commande'!T45*24 -> 0 | E10: =(C10-D10)*'Bon de commande'!M45 -> 0 | F10: =(C10-D10)*0.2 -> 0
B11: ='Bon de commande'!C46 -> Bière sans alcool | C11: ='Bon de commande'!T46*24 -> 0 | E11: =(C11-D11)*'Bon de commande'!M46 -> 0 | F11: =(C11-D11)*0.2 -> 0
B12: ='Bon de commande'!C47 -> Gin Tonic prêt à boire | C12: ='Bon de commande'!T47*12 -> 0 | E12: =(C12-D12)*'Bon de commande'!M47 -> 0 | F12: =(C12-D12)*0.2 -> 0
B13: ='Bon de commande'!C48 -> Kombucha | C13: ='Bon de commande'!T48*12 -> 0 | E13: =(C13-D13)*'Bon de commande'!M48 -> 0 | F13: =(C13-D13)*0.2 -> 0
B14: Vin régulier
B15: ='Bon de commande'!C59 -> Borsao Tocado Campo de Borja (rouge) | C15: ='Bon de commande'!V59 -> 0 | E15: =(C15-D15)*'Bon de commande'!S59 -> 0
B16: ='Bon de commande'!C60 -> Concha Y Toro Frontera Chardonnay (blanc) | C16: ='Bon de commande'!V60 -> 0 | E16: =(C16-D16)*'Bon de commande'!S60 -> 0
B17: SAQ
B18: =IF('Bon de commande'!G81="","",'Bon de commande'!G81) | C18: =IF(B18="","",'Bon de commande'!AJ81) | E18: =IFERROR((C18-D18)*('Bon de commande'!Z81+'Bon de commande'!AE81),0) -> 0
B19: =IF('Bon de commande'!G82="","",'Bon de commande'!G82) | C19: =IF(B19="","",'Bon de commande'!AJ82) | E19: =IFERROR((C19-D19)*('Bon de commande'!Z82+'Bon de commande'!AE82),0) -> 0
B20: =IF('Bon de commande'!G83="","",'Bon de commande'!G83) | C20: =IF(B20="","",'Bon de commande'!AJ83) | E20: =IFERROR((C20-D20)*('Bon de commande'!Z83+'Bon de commande'!AE83),0) -> 0
B21: =IF('Bon de commande'!G84="","",'Bon de commande'!G84) | C21: =IF(B21="","",'Bon de commande'!AJ84) | E21: =IFERROR((C21-D21)*('Bon de commande'!Z84+'Bon de commande'!AE84),0) -> 0
B22: =IF('Bon de commande'!G85="","",'Bon de commande'!G85) | C22: =IF(B22="","",'Bon de commande'!AJ85) | E22: =IFERROR((C22-D22)*('Bon de commande'!Z85+'Bon de commande'!AE85),0) -> 0
B23: =IF('Bon de commande'!G86="","",'Bon de commande'!G86) | C23: =IF(B23="","",'Bon de commande'!AJ86) | E23: =IFERROR((C23-D23)*('Bon de commande'!Z86+'Bon de commande'!AE86),0) -> 0
B24: =IF('Bon de commande'!G87="","",'Bon de commande'!G87) | C24: =IF(B24="","",'Bon de commande'!AJ87) | E24: =IFERROR((C24-D24)*('Bon de commande'!Z87+'Bon de commande'!AE87),0) -> 0
B25: =IF('Bon de commande'!G88="","",'Bon de commande'!G88) | C25: =IF(B25="","",'Bon de commande'!AJ88) | E25: =IFERROR((C25-D25)*('Bon de commande'!Z88+'Bon de commande'!AE88),0) -> 0
B26: =IF('Bon de commande'!G89="","",'Bon de commande'!G89) | C26: =IF(B26="","",'Bon de commande'!AJ89) | E26: =IFERROR((C26-D26)*('Bon de commande'!Z89+'Bon de commande'!AE89),0) -> 0
B27: =IF('Bon de commande'!G90="","",'Bon de commande'!G90) | C27: =IF(B27="","",'Bon de commande'!AJ90) | E27: =IFERROR((C27-D27)*('Bon de commande'!Z90+'Bon de commande'!AE90),0) -> 0
B28: Service traiteur
B29: =IF('Bon de commande'!C100="","",'Bon de commande'!C100) -> Thermos de café (incluant lait et sucre) | C29: =IF(B29="","",'Bon de commande'!X100) -> 0 | E29: =IFERROR(C29*'Bon de commande'!U100,"PRIX") -> 0
B30: =IF('Bon de commande'!C101="","",'Bon de commande'!C101) -> Muffins variés | C30: =IF(B30="","",'Bon de commande'!X101) -> 0 | E30: =C30*'Bon de commande'!U101 -> 0
B31: =IF('Bon de commande'!C102="","",'Bon de commande'!C102) -> Chocolatines | C31: =IF(B31="","",'Bon de commande'!X102) -> 0 | E31: =C31*'Bon de commande'!U102 -> 0
B32: =IF('Bon de commande'!C103="","",'Bon de commande'!C103) -> Croissant | C32: =IF(B32="","",'Bon de commande'!X103) -> 0 | E32: =IFERROR(C32*'Bon de commande'!U103,0) -> 0
B33: =IF('Bon de commande'!C104="","",'Bon de commande'!C104) -> Thermos d'eau chaude | C33: =IF(B33="","",'Bon de commande'!X104) -> 0 | E33: =IFERROR(C33*'Bon de commande'!U104,0) -> 0
B34: =IF('Bon de commande'!C105="","",'Bon de commande'!C105) | C34: =IF(B34="","",'Bon de commande'!X105) | E34: =IFERROR(C34*'Bon de commande'!U105,0) -> 0
B35: =IF('Bon de commande'!C106="","",'Bon de commande'!C106) | C35: =IF(B35="","",'Bon de commande'!X106) | E35: =IFERROR(C35*'Bon de commande'!U106,0) -> 0
B36: =IF('Bon de commande'!C107="","",'Bon de commande'!C107) | C36: =IF(B36="","",'Bon de commande'!X107) | E36: =IFERROR(C36*'Bon de commande'!U107,0) -> 0
B37: Matériel de location
B38: =IF('Bon de commande'!C117="","",'Bon de commande'!C117) -> Écocup | C38: =IF(B38="","",'Bon de commande'!X117) -> 0 | E38: =IFERROR((C38-D38)*'Bon de commande'!U117,0) -> 0
B39: =IF('Bon de commande'!C118="","",'Bon de commande'!C118) -> Tasses à café | C39: =IF(B39="","",'Bon de commande'!X118) -> 0 | E39: =IFERROR((C39-D39)*'Bon de commande'!U118,0) -> 0
B40: =IF('Bon de commande'!C119="","",'Bon de commande'!C119) -> Verre à vin en vitre | C40: =IF(B40="","",'Bon de commande'!X119) -> 0 | E40: =IFERROR((C40-D40)*'Bon de commande'!U119,0) -> 0
B41: =IF('Bon de commande'!C120="","",'Bon de commande'!C120) | C41: =IF(B41="","",'Bon de commande'!X120) | E41: =IFERROR((C41-D41)*'Bon de commande'!U120,0) -> 0
B42: =IF('Bon de commande'!C121="","",'Bon de commande'!C121) | C42: =IF(B42="","",'Bon de commande'!X121) | E42: =IFERROR((C42-D42)*'Bon de commande'!U121,0) -> 0
...

Sheet Matrices Bon de commande
A2: Lieu de l'événement
C4: Local section 3 | D4: 0 | E4: ='Menus déroulant'!F4 -> Café L'Auriculaire | F4: ='Menus déroulant'!F5 -> Bar Le Baromètre | G4: ='Menus déroulant'!F6 -> Autre
B5: Local section 2 | D5: 1 | E5: 2 | F5: 3 | G5: 4
B6: 0 | C6: 1 | D6: =IF('Bon de commande'!L31="",Notes!B83,"") -> Vous devez inscrire le nom du local avant de pouvoir remplir le bon de commande | E6: =Notes!B83 -> Vous devez inscrire le nom du local avant de pouvoir remplir le bon de commande | F6: =Notes!B83 -> Vous devez inscrire le nom du local avant de pouvoir remplir le bon de commande | G6: =IF('Bon de commande'!L31="",Notes!B83,"") -> Vous devez inscrire le nom du local avant de pouvoir remplir le bon de commande
B7: oui | C7: 2 | D7: =IF('Bon de commande'!L31="",Notes!B83,"") -> Vous devez inscrire le nom du local avant de pouvoir remplir le bon de commande | E7: =IF('Formulaire unique'!W89='Menus déroulant'!F4,"","") | F7: =IF('Formulaire unique'!W89='Menus déroulant'!F5,"","") | G7: =IF('Bon de commande'!L31="",Notes!B83,"") -> Vous devez inscrire le nom du local avant de pouvoir remplir le bon de commande
B8: non | C8: 3 | D8: =IF('Bon de commande'!L31="",Notes!B83,"") -> Vous devez inscrire le nom du local avant de pouvoir remplir le bon de commande | E8: =IF('Formulaire unique'!W89='Menus déroulant'!F4,"","") | F8: =IF('Formulaire unique'!W89='Menus déroulant'!F5,"","") | G8: =IF('Bon de commande'!L31="",Notes!B83,"") -> Vous devez inscrire le nom du local avant de pouvoir remplir le bon de commande
B10: {=INDEX(D6:G8,VLOOKUP('Formulaire unique'!T72,'Matrices Bon de commande'!B6:C8,2,FALSE),HLOOKUP('Formulaire unique'!W89,'Matrices Bon de commande'!D4:G5,2,FALSE))} -> Vous devez inscrire le nom du local avant de pouvoir remplir le bon de commande
A12: Bières en canette disponibles
C14: Client | D14: ='Menus déroulant'!G4 -> Association étudiante de l'UQAR | E14: ='Menus déroulant'!G5 -> Étudiant(e) de l'UQAR | F14: ='Menus déroulant'!G6 -> Employé(e) de l'UQAR | G14: ='Menus déroulant'!G7 -> Personne, groupe ou association non relié(e) à l'UQAR | H14: 0
A15: Prix de base | B15: Produit | D15: 1 | E15: 2 | F15: 3 | G15: 4 | H15: 5
A16: 2 | B16: ='Bon de commande'!C41 -> Molson Canadian | C16: 1 | D16: =$A16+($A16*25/100) -> 2.5 | E16: =$A16+($A16*25/100) -> 2.5 | F16: =$A16+($A16*40/100) -> 2.8 | G16: =$A16+($A16*50/100) -> 3 | H16: 0
A17: 2.3 | B17: ='Bon de commande'!C42 -> Belgian Moon | C17: 2 | D17: =$A17+($A17*25/100) -> 2.875 | E17: =$A17+($A17*25/100) -> 2.875 | F17: =$A17+($A17*40/100) -> 3.22 | G17: =$A17+($A17*50/100) -> 3.45 | H17: 0
A18: 2.3 | B18: ='Bon de commande'!C43 -> Amer IPA | C18: 3 | D18: =$A18+($A18*25/100) -> 2.875 | E18: =$A18+($A18*25/100) -> 2.875 | F18: =$A18+($A18*40/100) -> 3.22 | G18: =$A18+($A18*50/100) -> 3.45 | H18: 0
A19: 2.3 | B19: ='Bon de commande'!C44 -> Griffintown | C19: 4 | D19: =$A19+($A19*25/100) -> 2.875 | E19: =$A19+($A19*25/100) -> 2.875 | F19: =$A19+($A19*40/100) -> 3.22 | G19: =$A19+($A19*50/100) -> 3.45 | H19: 0
A20: 3.25 | B20: ='Bon de commande'!C45 -> Cidre McKeown | C20: 5 | D20: =$A20+($A20*25/100) -> 4.0625 | E20: =$A20+($A20*25/100) -> 4.0625 | F20: =$A20+($A20*40/100) -> 4.55 | G20: =$A20+($A20*50/100) -> 4.875 | H20: 0
A21: 2.3 | B21: ='Bon de commande'!C46 -> Bière sans alcool | C21: 6 | D21: =$A21+($A21*25/100) -> 2.875 | E21: =$A21+($A21*25/100) -> 2.875 | F21: =$A21+($A21*40/100) -> 3.22 | G21: =$A21+($A21*50/100) -> 3.45 | H21: 0
A22: 3.25 | B22: ='Bon de commande'!C47 -> Gin Tonic prêt à boire | C22: 7 | D22: =$A22+($A22*25/100) -> 4.0625 | E22: =$A22+($A22*25/100) -> 4.0625 | F22: =$A22+($A22*30/100) -> 4.225 | G22: =$A22+($A22*30/100) -> 4.225 | H22: 0
